BEGIN:VCALENDAR
VERSION:2.0
PRODID:-//Zwemvereniging De Dolfijn Amsterdam - ECPv6.15.17.1//NONSGML v1.0//EN
CALSCALE:GREGORIAN
METHOD:PUBLISH
X-WR-CALNAME:Zwemvereniging De Dolfijn Amsterdam
X-ORIGINAL-URL:https://dedolfijn.com
X-WR-CALDESC:Evenementen voor Zwemvereniging De Dolfijn Amsterdam
REFRESH-INTERVAL;VALUE=DURATION:PT1H
X-Robots-Tag:noindex
X-PUBLISHED-TTL:PT1H
BEGIN:VTIMEZONE
TZID:Europe/Amsterdam
BEGIN:DAYLIGHT
TZOFFSETFROM:+0100
TZOFFSETTO:+0200
TZNAME:CEST
DTSTART:20210328T010000
END:DAYLIGHT
BEGIN:STANDARD
TZOFFSETFROM:+0200
TZOFFSETTO:+0100
TZNAME:CET
DTSTART:20211031T010000
END:STANDARD
BEGIN:DAYLIGHT
TZOFFSETFROM:+0100
TZOFFSETTO:+0200
TZNAME:CEST
DTSTART:20220327T010000
END:DAYLIGHT
BEGIN:STANDARD
TZOFFSETFROM:+0200
TZOFFSETTO:+0100
TZNAME:CET
DTSTART:20221030T010000
END:STANDARD
BEGIN:DAYLIGHT
TZOFFSETFROM:+0100
TZOFFSETTO:+0200
TZNAME:CEST
DTSTART:20230326T010000
END:DAYLIGHT
BEGIN:STANDARD
TZOFFSETFROM:+0200
TZOFFSETTO:+0100
TZNAME:CET
DTSTART:20231029T010000
END:STANDARD
END:VTIMEZONE
BEGIN:VEVENT
DTSTART;TZID=Europe/Amsterdam:20220414T000000
DTEND;TZID=Europe/Amsterdam:20220415T235959
DTSTAMP:20260421T030846
CREATED:20220323T143439Z
LAST-MODIFIED:20220323T143442Z
UID:4170-1649894400-1650067199@dedolfijn.com
SUMMARY:Onderhoud trappen
DESCRIPTION:Op donderdag 14 en vrijdag 15 april (Goede Vrijdag) vindt onderhoud plaats aan de trappen van de tribunes naar de perrons. Deze trappen zijn op die dagen afgezet en dus niet bruikbaar. Het gaat om alle trappen van de tribune van het 50m bad naar het perron en de trap van de tribune van de springkuil naar het perron. De tribunes zijn op die dagen alleen bereikbaar via de trap bij de verenigingsingang of de hoofdingang en via de lift\, dus niet via de zwemzaal.  \n\n\n\nBij de werkzaamheden wordt lijm gebruikt\, hierdoor zal een lijmlucht in het pand te ruiken zijn.
URL:https://dedolfijn.com/wedstrijd/onderhoud-trappen/
LOCATION:Sloterparkbad Amsterdam\, President Allendelaan 3\, Amsterdam\, 1064 GW\, Nederland
CATEGORIES:Bestuur,Clubhuis,Leszwemmen,Schoonspringen,Synchroonzwemmen,Triathlon,Waterpolo,Wedstrijdzwemmen
END:VEVENT
BEGIN:VEVENT
DTSTART;TZID=Europe/Amsterdam:20220527T000000
DTEND;TZID=Europe/Amsterdam:20220527T235959
DTSTAMP:20260421T030846
CREATED:20220505T123307Z
LAST-MODIFIED:20220525T211536Z
UID:4337-1653609600-1653695999@dedolfijn.com
SUMMARY:Onderhoud trappen
DESCRIPTION:Op vrijdag 27 mei vindt verder onderhoud plaats aan de trappen van de tribunes naar de perrons. Deze trappen zijn op die dagen afgezet en dus niet bruikbaar. Het gaat om alle trappen van de tribune van het 50m bad naar het perron en de trap van de tribune van de springkuil naar het perron. De tribunes zijn op die dagen alleen bereikbaar via de trap bij de verenigingsingang of de hoofdingang en via de lift\, dus niet via de zwemzaal.  \n\n\n\nBij de werkzaamheden wordt lijm gebruikt\, hierdoor zal een lijmlucht in het pand te ruiken zijn.
URL:https://dedolfijn.com/wedstrijd/onderhoud-trappen-2/
LOCATION:Sloterparkbad Amsterdam\, President Allendelaan 3\, Amsterdam\, 1064 GW\, Nederland
CATEGORIES:Bestuur,Clubhuis,Leszwemmen,Schoonspringen,Synchroonzwemmen,Triathlon,Waterpolo,Wedstrijdzwemmen
END:VEVENT
BEGIN:VEVENT
DTSTART;TZID=Europe/Amsterdam:20220710T160000
DTEND;TZID=Europe/Amsterdam:20220710T210000
DTSTAMP:20260421T030846
CREATED:20210925T113938Z
LAST-MODIFIED:20220525T211644Z
UID:2723-1657468800-1657486800@dedolfijn.com
SUMMARY:De Dolfijn 115 jaar FUN festival
DESCRIPTION:De Dolfijn bestaat in 2021 al 115 jaar! Een prachtig jubileum\, dat we niet ongemerkt voorbij laten gaan. Daarom staat zondag 10 juli 2022 in het teken van het 115 jaar FUN festival. Een feest in het Sloterparkbad met activiteiten voor jong en oud.
URL:https://dedolfijn.com/wedstrijd/de-dolfijn-115-jaar-fun-festival/
LOCATION:Sloterparkbad Amsterdam\, President Allendelaan 3\, Amsterdam\, 1064 GW\, Nederland
CATEGORIES:Bestuur,Clubhuis,Leszwemmen,Schoonspringen,Synchroonzwemmen,Triathlon,Waterpolo,Wedstrijdzwemmen
ATTACH;FMTTYPE=image/png:https://dedolfijn.com/wp-content/uploads/2021/12/Woordmerk-rood-transparant-1.png
END:VEVENT
BEGIN:VEVENT
DTSTART;TZID=Europe/Amsterdam:20220723T000000
DTEND;TZID=Europe/Amsterdam:20220818T235959
DTSTAMP:20260421T030846
CREATED:20220505T125118Z
LAST-MODIFIED:20220525T211448Z
UID:4341-1658534400-1660867199@dedolfijn.com
SUMMARY:Onderhoud Instructiebad
DESCRIPTION:Na 20 jaar wordt het topdek van de beweegbare bodem van het Instructiebad vervangen. Het bad is hierdoor gedurende de zomer drie weken buiten gebruik.
URL:https://dedolfijn.com/wedstrijd/onderhoud-instructiebad/
LOCATION:Sloterparkbad Amsterdam\, President Allendelaan 3\, Amsterdam\, 1064 GW\, Nederland
CATEGORIES:Bestuur,Clubhuis,Leszwemmen,Schoonspringen,Synchroonzwemmen,Triathlon,Waterpolo,Wedstrijdzwemmen
END:VEVENT
BEGIN:VEVENT
DTSTART;TZID=Europe/Amsterdam:20220725T000000
DTEND;TZID=Europe/Amsterdam:20220904T235959
DTSTAMP:20260421T030846
CREATED:20220505T124729Z
LAST-MODIFIED:20220823T085312Z
UID:4339-1658707200-1662335999@dedolfijn.com
SUMMARY:Onderhoud Springkuil
DESCRIPTION:De wanden en de bodem van de Springkuil zijn gecoat. Elke 5 jaar moet de coating opnieuw worden aangebracht. Dit jaar is het weer zover en wordt de coating aangepakt. Ook zullen lijnen op de bodem worden aangebracht en kruizen op de wand voor een goed zichtbaar keerpunt.  \n\n\n\nMet de nieuwe lijnen hebben we dan 6 banen in de Springkuil (15 x 21 meter).
URL:https://dedolfijn.com/wedstrijd/onderhoud-springkuil/
LOCATION:Sloterparkbad Amsterdam\, President Allendelaan 3\, Amsterdam\, 1064 GW\, Nederland
CATEGORIES:Bestuur,Clubhuis,Leszwemmen,Schoonspringen,Synchroonzwemmen,Triathlon,Waterpolo,Wedstrijdzwemmen
END:VEVENT
END:VCALENDAR