BEGIN:VCALENDAR
VERSION:2.0
PRODID:-//Zwemvereniging De Dolfijn Amsterdam - ECPv6.15.17.1//NONSGML v1.0//EN
CALSCALE:GREGORIAN
METHOD:PUBLISH
X-WR-CALNAME:Zwemvereniging De Dolfijn Amsterdam
X-ORIGINAL-URL:https://dedolfijn.com
X-WR-CALDESC:Evenementen voor Zwemvereniging De Dolfijn Amsterdam
REFRESH-INTERVAL;VALUE=DURATION:PT1H
X-Robots-Tag:noindex
X-PUBLISHED-TTL:PT1H
BEGIN:VTIMEZONE
TZID:Europe/Amsterdam
BEGIN:DAYLIGHT
TZOFFSETFROM:+0100
TZOFFSETTO:+0200
TZNAME:CEST
DTSTART:20210328T010000
END:DAYLIGHT
BEGIN:STANDARD
TZOFFSETFROM:+0200
TZOFFSETTO:+0100
TZNAME:CET
DTSTART:20211031T010000
END:STANDARD
BEGIN:DAYLIGHT
TZOFFSETFROM:+0100
TZOFFSETTO:+0200
TZNAME:CEST
DTSTART:20220327T010000
END:DAYLIGHT
BEGIN:STANDARD
TZOFFSETFROM:+0200
TZOFFSETTO:+0100
TZNAME:CET
DTSTART:20221030T010000
END:STANDARD
BEGIN:DAYLIGHT
TZOFFSETFROM:+0100
TZOFFSETTO:+0200
TZNAME:CEST
DTSTART:20230326T010000
END:DAYLIGHT
BEGIN:STANDARD
TZOFFSETFROM:+0200
TZOFFSETTO:+0100
TZNAME:CET
DTSTART:20231029T010000
END:STANDARD
END:VTIMEZONE
BEGIN:VEVENT
DTSTART;TZID=Europe/Amsterdam:20220223T163000
DTEND;TZID=Europe/Amsterdam:20220223T200000
DTSTAMP:20260421T042840
CREATED:20220213T164109Z
LAST-MODIFIED:20220213T164701Z
UID:3973-1645633800-1645646400@dedolfijn.com
SUMMARY:Cursusdag
DESCRIPTION:Cursusdag:              * Reddend zwemmen voor Trainers en Instructeurs;* Wat te doen bij een calamiteit;* Workshop in het begeleiden van kinderen met een visuele beperking. \n\n\n\nOrganisatoren:      * Afdeling Elementair Zwemmen;* Simone Damen\, Senior Teamleider bij Optisport;* Wilbert van Dorresteijn\, Ambulant onderwijskundig Begeleider (L.O.) Visio Midden. \n\n\n\nWanneer:                   Woensdag 23-02-202216.30-20.00 \n\n\n\nProgrammering:     16.30-17.00 Koffie in het clubhuis;17.00-17.50 Examen Reddend zwemmen voor Trainers en Instructeurs;17.50-18.10 Wat te doen bij een calamiteit;18.10-18.30 Theorie over zwemmen i.c.m. een visuele beperking;18.30-20.00 Praktijkervaring opdoen;20.15 – Aan tafel.Waar:                            SloterparkbadPresident Allendelaan 31064 GW Amsterdam \n\n\n\nHet examen \n\n\n\nZwemmend Redden voor Trainers en Instructeurs \n\n\n\nbestaat uit de volgende onderdelen: \n\n\n\nZwemsnelheid:Vanaf de bassinrand te water gaan op een vlugge\, veilige en verantwoorde manier onmiddellijk gevolgd door 25 meter polocrawl. Deze afstand dient binnen de 30 seconden worden afgelegd. Bij een leeftijd boven de 40 jaar geldt maximaal 35 seconden. \n\n\n\nOnderwater zwemmen:Vanaf de bassinrand te water gaan op een vlugge\, veilige en verantwoorde manier onmiddellijk gevolgd door 15 meter onderwater zwemmen waarbij een ring die op een diepte van 3.10 meter en 15 meter uit de kant ligt boven water gebracht wordt. \n\n\n\nRedden van een onder water geraakte drenkeling:Vanaf de bassinrand te water gaan op een vlugge\, veilige en verantwoorde manier onmiddellijk gevolgd door 10 meter zwemmen in een borstslag\, daarna met de hoekduik\, in water van 3.10 meter diepte\, een zich op de bodem bevindende duikpop pakken en tonen aan de examinator en deze 30 seconden boven water houden. \n\n\n\nVervoersgrepen:Vanaf de bassinrand te water gaan op een vlugge\, veilige en verantwoorde manier waarbij de pseudo-drenkeling in het zicht gehouden wordt\, aansluitend een geklede pseudo-drenkeling over een afstand van 25 meter vervoeren in 3 vervoersgrepen:* kopgreep* zeemansgreep* polsgreepDe vervoersgrepen moeten achter elkaar worden uitgevoerd\, zonder het contact met de drenkeling te verliezen.
URL:https://dedolfijn.com/wedstrijd/cursusdag/
CATEGORIES:Leszwemmen,Schoonspringen,Synchroonzwemmen,Triathlon,Waterpolo,Wedstrijdzwemmen
END:VEVENT
END:VCALENDAR