BEGIN:VCALENDAR
VERSION:2.0
PRODID:-//Zwemvereniging De Dolfijn Amsterdam - ECPv6.15.17.1//NONSGML v1.0//EN
CALSCALE:GREGORIAN
METHOD:PUBLISH
X-WR-CALNAME:Zwemvereniging De Dolfijn Amsterdam
X-ORIGINAL-URL:https://dedolfijn.com
X-WR-CALDESC:Evenementen voor Zwemvereniging De Dolfijn Amsterdam
REFRESH-INTERVAL;VALUE=DURATION:PT1H
X-Robots-Tag:noindex
X-PUBLISHED-TTL:PT1H
BEGIN:VTIMEZONE
TZID:Europe/Amsterdam
BEGIN:DAYLIGHT
TZOFFSETFROM:+0100
TZOFFSETTO:+0200
TZNAME:CEST
DTSTART:20200329T010000
END:DAYLIGHT
BEGIN:STANDARD
TZOFFSETFROM:+0200
TZOFFSETTO:+0100
TZNAME:CET
DTSTART:20201025T010000
END:STANDARD
BEGIN:DAYLIGHT
TZOFFSETFROM:+0100
TZOFFSETTO:+0200
TZNAME:CEST
DTSTART:20210328T010000
END:DAYLIGHT
BEGIN:STANDARD
TZOFFSETFROM:+0200
TZOFFSETTO:+0100
TZNAME:CET
DTSTART:20211031T010000
END:STANDARD
BEGIN:DAYLIGHT
TZOFFSETFROM:+0100
TZOFFSETTO:+0200
TZNAME:CEST
DTSTART:20220327T010000
END:DAYLIGHT
BEGIN:STANDARD
TZOFFSETFROM:+0200
TZOFFSETTO:+0100
TZNAME:CET
DTSTART:20221030T010000
END:STANDARD
END:VTIMEZONE
BEGIN:VEVENT
DTSTART;TZID=Europe/Amsterdam:20211202T200000
DTEND;TZID=Europe/Amsterdam:20211202T220000
DTSTAMP:20260421T092315
CREATED:20210925T114714Z
LAST-MODIFIED:20211124T225702Z
UID:2726-1638475200-1638482400@dedolfijn.com
SUMMARY:Algemene Ledenvergadering De Dolfijn
DESCRIPTION:Geachte (ere)leden / ouders en verzorgers\,Wij nodigen u graag uit voor de jaarlijkse Algemene Ledenvergadering van Zwemvereniging De Dolfijn op donderdag 2 december 2021. De vergadering wordt online gehouden: https://dedolfijn.com/bestuur/alv-wordt-digitaal/Alle leden (18+) en vertegenwoordigers van leden (<18) kunnen tijdens de vergadering hun stem uitbrengen.Tijdens de Algemene Ledenvergadering worden de jaarverslagen van de verschillende afdelingen gepresenteerd en worden bestuursleden en commissies benoemd. Ook worden ereleden en leden van verdienste bekendgemaakt.We vragen u vriendelijk\, zich van tevoren aan te melden via het formulier op de website of per e-mail: verenigingsmanager@dedolfijn.com. Via dit adres kunt u ook de jaarstukken opvragen.Vragen en voordrachten voor ereleden (zie kader) kunt u uiterlijk 22 november schriftelijk indienen via verenigingsmanager@dedolfijn.com \n\n\n\n20211202-Uitnodiging-en-agenda-ALVDownload
URL:https://dedolfijn.com/wedstrijd/algemene-ledenvergadering-de-dolfijn/
LOCATION:Clubhuis De Dolfijn\, President Allendelaan 3\, Amsterdam\, 1064 GW\, Nederland
CATEGORIES:Bestuur,Clubhuis,Leszwemmen,Schoonspringen,Synchroonzwemmen,Triathlon,Waterpolo,Wedstrijdzwemmen
ATTACH;FMTTYPE=image/png:https://dedolfijn.com/wp-content/uploads/2021/05/Logo-De-Dolfijn-basis.png
END:VEVENT
END:VCALENDAR