BEGIN:VCALENDAR
VERSION:2.0
PRODID:-//Zwemvereniging De Dolfijn Amsterdam - ECPv6.15.17.1//NONSGML v1.0//EN
CALSCALE:GREGORIAN
METHOD:PUBLISH
X-ORIGINAL-URL:https://dedolfijn.com
X-WR-CALDESC:Evenementen voor Zwemvereniging De Dolfijn Amsterdam
REFRESH-INTERVAL;VALUE=DURATION:PT1H
X-Robots-Tag:noindex
X-PUBLISHED-TTL:PT1H
BEGIN:VTIMEZONE
TZID:Europe/Amsterdam
BEGIN:DAYLIGHT
TZOFFSETFROM:+0100
TZOFFSETTO:+0200
TZNAME:CEST
DTSTART:20230326T010000
END:DAYLIGHT
BEGIN:STANDARD
TZOFFSETFROM:+0200
TZOFFSETTO:+0100
TZNAME:CET
DTSTART:20231029T010000
END:STANDARD
BEGIN:DAYLIGHT
TZOFFSETFROM:+0100
TZOFFSETTO:+0200
TZNAME:CEST
DTSTART:20240331T010000
END:DAYLIGHT
BEGIN:STANDARD
TZOFFSETFROM:+0200
TZOFFSETTO:+0100
TZNAME:CET
DTSTART:20241027T010000
END:STANDARD
BEGIN:DAYLIGHT
TZOFFSETFROM:+0100
TZOFFSETTO:+0200
TZNAME:CEST
DTSTART:20250330T010000
END:DAYLIGHT
BEGIN:STANDARD
TZOFFSETFROM:+0200
TZOFFSETTO:+0100
TZNAME:CET
DTSTART:20251026T010000
END:STANDARD
END:VTIMEZONE
BEGIN:VEVENT
DTSTART;TZID=Europe/Amsterdam:20240715T173000
DTEND;TZID=Europe/Amsterdam:20240715T193000
DTSTAMP:20260420T041619
CREATED:20240531T094632Z
LAST-MODIFIED:20240531T095430Z
UID:7109-1721064600-1721071800@dedolfijn.com
SUMMARY:Afzwemmen B/C-diploma & Zwemvaardigheid
DESCRIPTION:Afzwemmen B/C-diploma & Zwemvaardigheid
URL:https://dedolfijn.com/wedstrijd/7109/
CATEGORIES:Clubhuis,Leszwemmen
END:VEVENT
END:VCALENDAR